BEGIN:VCALENDAR
VERSION:2.0
PRODID:-//AudioTheme 2.3.8
BEGIN:VEVENT
UID:urn:uuid:f43a2b79-7865-4fec-9bc8-3788b46c2cd9
URL:https://mitchmcvicker.com/concerts/gig-1561/
DTSTART;VALUE=DATE:20120805
SUMMARY:Andover United Methodist Church
LOCATION:Andover United Methodist Church\, Andover\, KS
END:VEVENT
END:VCALENDAR
