BEGIN:VCALENDAR
VERSION:2.0
PRODID:-//AudioTheme 2.3.8
BEGIN:VEVENT
UID:urn:uuid:84d838c2-4365-4c96-b8e8-3616d334fe00
URL:https://mitchmcvicker.com/concerts/gig-1560/
DTSTART;VALUE=DATE:20120804
SUMMARY:Hope Community Church
LOCATION:Hope Community Church\, 1831 E 21st St\, Andover\, KS
END:VEVENT
END:VCALENDAR
