BEGIN:VCALENDAR
VERSION:2.0
PRODID:-//AudioTheme 2.3.8
BEGIN:VEVENT
UID:urn:uuid:aed588f6-428b-42c9-882a-bbfd9fc4624b
URL:https://mitchmcvicker.com/concerts/gig-1559/
DTSTART;VALUE=DATE:20120803
SUMMARY:Louisburg Baptist Temple
LOCATION:Louisburg Baptist Temple\, Louisburg\, KS
END:VEVENT
END:VCALENDAR
