BEGIN:VCALENDAR
VERSION:2.0
PRODID:-//AudioTheme 2.3.8
BEGIN:VEVENT
UID:urn:uuid:53909b8a-7189-4b30-aab7-8179846b221d
URL:https://mitchmcvicker.com/concerts/gig-1557/
DTSTART;VALUE=DATE:20120802
SUMMARY:Morgan Theater
LOCATION:Morgan Theater\, Oberlin\, KS
END:VEVENT
END:VCALENDAR
