BEGIN:VCALENDAR
VERSION:2.0
PRODID:-//AudioTheme 2.3.8
BEGIN:VEVENT
UID:urn:uuid:90d953e1-a5e6-4d8b-bd51-a4c0a9d7519c
URL:https://mitchmcvicker.com/concerts/gig-1555/
DTSTART;VALUE=DATE:20120801
SUMMARY:Community Bible Church
LOCATION:Community Bible Church\, Pierre\, SD
END:VEVENT
END:VCALENDAR
