BEGIN:VCALENDAR
VERSION:2.0
PRODID:-//AudioTheme 2.3.8
BEGIN:VEVENT
UID:urn:uuid:a1869d09-314f-4d0f-8c2d-45a2445674f9
URL:https://mitchmcvicker.com/concerts/gig-1553/
DTSTART;VALUE=DATE:20120731
SUMMARY:Warriors for Christ Youth Rally/Sioux Tribe Fairgrounds
LOCATION:Warriors for Christ Youth Rally/Sioux Tribe Fairgrounds\, Rosebud\, SD
END:VEVENT
END:VCALENDAR
