BEGIN:VCALENDAR
VERSION:2.0
PRODID:-//AudioTheme 2.3.8
BEGIN:VEVENT
UID:urn:uuid:c71a9aa4-1514-49c6-993e-058c211cdf00
URL:https://mitchmcvicker.com/concerts/gig-1551/
DTSTART;VALUE=DATE:20120730
SUMMARY:First Christian Church
LOCATION:First Christian Church\, Onawa\, IA
END:VEVENT
END:VCALENDAR
