BEGIN:VCALENDAR
VERSION:2.0
PRODID:-//AudioTheme 2.3.8
BEGIN:VEVENT
UID:urn:uuid:94e77534-9817-406d-b751-17c0dd4d7a98
URL:https://mitchmcvicker.com/concerts/gig-1550/
DTSTART;VALUE=DATE:20120729
SUMMARY:Northridge Baptist Church
LOCATION:Northridge Baptist Church\, Mitchell\, SD
END:VEVENT
END:VCALENDAR
