BEGIN:VCALENDAR
VERSION:2.0
PRODID:-//AudioTheme 2.3.8
BEGIN:VEVENT
UID:urn:uuid:0957e277-a0cf-4fab-a169-ccd03259bc97
URL:https://mitchmcvicker.com/concerts/gig-1548/
DTSTART;VALUE=DATE:20120728
SUMMARY:Koronis Ministries (UMC Camp)
LOCATION:Koronis Ministries (UMC Camp)\, Paynesville\, MN
END:VEVENT
END:VCALENDAR
