BEGIN:VCALENDAR
VERSION:2.0
PRODID:-//AudioTheme 2.3.8
BEGIN:VEVENT
UID:urn:uuid:60be72a9-9282-4449-8870-152eee39730e
URL:https://mitchmcvicker.com/concerts/gig-1547/
DTSTART;VALUE=DATE:20120727
SUMMARY:North Heights Lutheran Church
LOCATION:North Heights Lutheran Church\, Roseville\, MN
END:VEVENT
END:VCALENDAR
