BEGIN:VCALENDAR
VERSION:2.0
PRODID:-//AudioTheme 2.3.8
BEGIN:VEVENT
UID:urn:uuid:a74f6ee2-a320-4359-901d-8c15c992908c
URL:https://mitchmcvicker.com/concerts/gig-1545/
DTSTART;VALUE=DATE:20120726
SUMMARY:St. Croix Art Barn
LOCATION:St. Croix Art Barn\, Osceola\, WI
END:VEVENT
END:VCALENDAR
