BEGIN:VCALENDAR
VERSION:2.0
PRODID:-//AudioTheme 2.3.8
BEGIN:VEVENT
UID:urn:uuid:ce4f3459-b851-486d-aa2d-63fc559fc1f2
URL:https://mitchmcvicker.com/concerts/gig-1543/
DTSTART;VALUE=DATE:20120722
SUMMARY:Cumberland Christian Church
LOCATION:Cumberland Christian Church\, Indianapolis\, IN
END:VEVENT
END:VCALENDAR
