BEGIN:VCALENDAR
VERSION:2.0
PRODID:-//AudioTheme 2.3.8
BEGIN:VEVENT
UID:urn:uuid:4c45b966-0ab0-484f-a796-d637e9edf64b
URL:https://mitchmcvicker.com/concerts/gig-1541/
DTSTART;VALUE=DATE:20120721
SUMMARY:Bright Christian Church
LOCATION:Bright Christian Church\, Lawrenceburg\, IN
END:VEVENT
END:VCALENDAR
