BEGIN:VCALENDAR
VERSION:2.0
PRODID:-//AudioTheme 2.3.8
BEGIN:VEVENT
UID:urn:uuid:e1510f87-2cba-4c36-a21c-30defc71008b
URL:https://mitchmcvicker.com/concerts/gig-1540/
DTSTART;VALUE=DATE:20120720
SUMMARY:Elburn Hill Church
LOCATION:Elburn Hill Church\, Elburn\, IL
END:VEVENT
END:VCALENDAR
