BEGIN:VCALENDAR
VERSION:2.0
PRODID:-//AudioTheme 2.3.8
BEGIN:VEVENT
UID:urn:uuid:ca053e5d-bda1-45dd-a7bb-f18a2f992e58
URL:https://mitchmcvicker.com/concerts/gig-1538/
DTSTART;VALUE=DATE:20120719
SUMMARY:Lakeside Christian Church
LOCATION:Lakeside Christian Church\, Springfield\, IL
END:VEVENT
END:VCALENDAR
