BEGIN:VCALENDAR
VERSION:2.0
PRODID:-//AudioTheme 2.3.8
BEGIN:VEVENT
UID:urn:uuid:1d0ff798-d402-4f25-8290-feec02bb3f64
URL:https://mitchmcvicker.com/concerts/gig-1536/
DTSTART;VALUE=DATE:20120701
SUMMARY:Evangelical Covenant Church
LOCATION:Evangelical Covenant Church\, Des Moines\, IA
END:VEVENT
END:VCALENDAR
