BEGIN:VCALENDAR
VERSION:2.0
PRODID:-//AudioTheme 2.3.8
BEGIN:VEVENT
UID:urn:uuid:5290e937-43da-46ed-a6e8-e1b2145cb1fa
URL:https://mitchmcvicker.com/concerts/gig-1532/
DTSTART;VALUE=DATE:20120520
SUMMARY:Upper Room Theater
LOCATION:Upper Room Theater\, Holland\, MI
END:VEVENT
END:VCALENDAR
