BEGIN:VCALENDAR
VERSION:2.0
PRODID:-//AudioTheme 2.3.8
BEGIN:VEVENT
UID:urn:uuid:b5e64143-72f0-45e3-a7cc-352f869eea25
URL:https://mitchmcvicker.com/concerts/gig-1530/
DTSTART;VALUE=DATE:20120516
SUMMARY:Zion Lutheran Church
LOCATION:Zion Lutheran Church\, 2215 Brandywine Lane\, York\, PA\, 17404
END:VEVENT
END:VCALENDAR
