BEGIN:VCALENDAR
VERSION:2.0
PRODID:-//AudioTheme 2.3.8
BEGIN:VEVENT
UID:urn:uuid:21ee28f1-263f-4ecb-aae9-aecee47bcb4d
URL:https://mitchmcvicker.com/concerts/gig-1528/
DTSTART;VALUE=DATE:20120429
SUMMARY:Susquehanna Valley Baptist Church
LOCATION:Susquehanna Valley Baptist Church\, Oneonta\, NY
END:VEVENT
END:VCALENDAR
