BEGIN:VCALENDAR
VERSION:2.0
PRODID:-//AudioTheme 2.3.8
BEGIN:VEVENT
UID:urn:uuid:7b9eb83a-6baf-47e7-b069-334bc5a2d4ed
URL:https://mitchmcvicker.com/concerts/gig-1527/
DTSTART;VALUE=DATE:20120428
SUMMARY:Verona Seventh Day Baptist Church
LOCATION:Verona Seventh Day Baptist Church\, Verona\, NY
END:VEVENT
END:VCALENDAR
