BEGIN:VCALENDAR
VERSION:2.0
PRODID:-//AudioTheme 2.3.8
BEGIN:VEVENT
UID:urn:uuid:2184b092-775f-4829-959a-d3c489b5afeb
URL:https://mitchmcvicker.com/concerts/gig-1525/
DTSTART;VALUE=DATE:20120427
SUMMARY:Vineyard Music Cafe
LOCATION:Vineyard Music Cafe\, Hopewell Junction\, NY
END:VEVENT
END:VCALENDAR
