BEGIN:VCALENDAR
VERSION:2.0
PRODID:-//AudioTheme 2.3.8
BEGIN:VEVENT
UID:urn:uuid:91396cb6-c55e-4828-94b1-d7c99c07bee0
URL:https://mitchmcvicker.com/concerts/gig-1524/
DTSTART;VALUE=DATE:20120426
SUMMARY:POSTPONED
LOCATION:POSTPONED\, POSTPONED Woonsocket\, RI
END:VEVENT
END:VCALENDAR
