BEGIN:VCALENDAR
VERSION:2.0
PRODID:-//AudioTheme 2.3.8
BEGIN:VEVENT
UID:urn:uuid:a6e900d2-2b22-4507-b438-038f6f53577c
URL:https://mitchmcvicker.com/concerts/gig-1523/
DTSTART;VALUE=DATE:20120425
SUMMARY:Spirit and Truth Fellowship
LOCATION:Spirit and Truth Fellowship\, Philadelphia\, PA
END:VEVENT
END:VCALENDAR
