BEGIN:VCALENDAR
VERSION:2.0
PRODID:-//AudioTheme 2.3.8
BEGIN:VEVENT
UID:urn:uuid:f3347e8a-b2eb-4f89-af61-12c0bb8f79c9
URL:https://mitchmcvicker.com/concerts/gig-1521/
DTSTART;VALUE=DATE:20120422
SUMMARY:Edgefield Baptist Church
LOCATION:Edgefield Baptist Church\, Greensboro\, NC
END:VEVENT
END:VCALENDAR
