BEGIN:VCALENDAR
VERSION:2.0
PRODID:-//AudioTheme 2.3.8
BEGIN:VEVENT
UID:urn:uuid:a047abc6-b724-450e-9ae6-30b12d53aa36
URL:https://mitchmcvicker.com/concerts/gig-1520/
DTSTART;VALUE=DATE:20120422
SUMMARY:Pleasant Garden Baptist Church
LOCATION:Pleasant Garden Baptist Church\, 1415 Neelley Rd\, Pleasant Garden\, NC\, 27313
END:VEVENT
END:VCALENDAR
