BEGIN:VCALENDAR
VERSION:2.0
PRODID:-//AudioTheme 2.3.8
BEGIN:VEVENT
UID:urn:uuid:7fb4c0ad-93c8-443a-8f33-8c2959314dfb
URL:https://mitchmcvicker.com/concerts/gig-1518/
DTSTART;VALUE=DATE:20120420
SUMMARY:Ocean View United Methodist Church
LOCATION:Ocean View United Methodist Church\, Oak Island\, NC
END:VEVENT
END:VCALENDAR
