BEGIN:VCALENDAR
VERSION:2.0
PRODID:-//AudioTheme 2.3.8
BEGIN:VEVENT
UID:urn:uuid:4167f74b-70a1-402c-9153-9dad2fc13345
URL:https://mitchmcvicker.com/concerts/gig-1516/
DTSTART;VALUE=DATE:20120415
SUMMARY:Lutheran Church of Peace
LOCATION:Lutheran Church of Peace\, Platteville\, WI
END:VEVENT
END:VCALENDAR
