BEGIN:VCALENDAR
VERSION:2.0
PRODID:-//AudioTheme 2.3.8
BEGIN:VEVENT
UID:urn:uuid:72d55f33-e1eb-4be6-9ce9-42c5e39834b7
URL:https://mitchmcvicker.com/concerts/gig-1515/
DTSTART;VALUE=DATE:20120414
SUMMARY:Riverwood Community Church
LOCATION:Riverwood Community Church\, Burlington\, WI
END:VEVENT
END:VCALENDAR
