BEGIN:VCALENDAR
VERSION:2.0
PRODID:-//AudioTheme 2.3.8
BEGIN:VEVENT
UID:urn:uuid:5cb3f878-8606-488f-8580-750c6f0a414b
URL:https://mitchmcvicker.com/concerts/gig-1514/
DTSTART;VALUE=DATE:20120413
SUMMARY:Blind Munchies Coffeehouse
LOCATION:Blind Munchies Coffeehouse\, Menomonie\, WI
END:VEVENT
END:VCALENDAR
