BEGIN:VCALENDAR
VERSION:2.0
PRODID:-//AudioTheme 2.3.8
BEGIN:VEVENT
UID:urn:uuid:3784dbab-1629-410f-9beb-e2b141cdcd53
URL:https://mitchmcvicker.com/concerts/gig-1513/
DTSTART;VALUE=DATE:20120412
SUMMARY:Vineyard Church of Cedar Rapids
LOCATION:Vineyard Church of Cedar Rapids\, Cedar Rapids\, IA
END:VEVENT
END:VCALENDAR
