BEGIN:VCALENDAR
VERSION:2.0
PRODID:-//AudioTheme 2.3.8
BEGIN:VEVENT
UID:urn:uuid:1b48e76b-c68a-465d-b897-e945a7d9dac3
URL:https://mitchmcvicker.com/concerts/gig-1512/
DTSTART;VALUE=DATE:20120401
SUMMARY:1316
LOCATION:1316\, 1800 Pear Orchard Road\, Elizabethtown\, Ohio\, United States\, 45840
END:VEVENT
END:VCALENDAR
