BEGIN:VCALENDAR
VERSION:2.0
PRODID:-//AudioTheme 2.3.8
BEGIN:VEVENT
UID:urn:uuid:c4b9b5af-a391-41a3-bbdb-dbf74a1f10a9
URL:https://mitchmcvicker.com/concerts/gig-1511/
DTSTART;VALUE=DATE:20120331
SUMMARY:Lucas Grove Baptist Church
LOCATION:Lucas Grove Baptist Church\, Upton\, KY
END:VEVENT
END:VCALENDAR
