BEGIN:VCALENDAR
VERSION:2.0
PRODID:-//AudioTheme 2.3.8
BEGIN:VEVENT
UID:urn:uuid:fd9e2fc8-b496-467d-a8cf-ccde911f6820
URL:https://mitchmcvicker.com/concerts/gig-1509/
DTSTART;VALUE=DATE:20120330
SUMMARY:Bridge Community
LOCATION:Bridge Community\, Elizabethtown\, KY
END:VEVENT
END:VCALENDAR
