BEGIN:VCALENDAR
VERSION:2.0
PRODID:-//AudioTheme 2.3.8
BEGIN:VEVENT
UID:urn:uuid:b88c528e-42c2-409a-a416-5c220fe193d2
URL:https://mitchmcvicker.com/concerts/gig-1507/
DTSTART;VALUE=DATE:20120329
SUMMARY:Vineyard Fellowship of Southwest Pittsburgh
LOCATION:Vineyard Fellowship of Southwest Pittsburgh\, Bridgeville (Pittsburgh)\, PA
END:VEVENT
END:VCALENDAR
