BEGIN:VCALENDAR
VERSION:2.0
PRODID:-//AudioTheme 2.3.8
BEGIN:VEVENT
UID:urn:uuid:b408b6de-9a22-4cce-a0b3-ec24eb7af8a8
URL:https://mitchmcvicker.com/concerts/gig-1505/
DTSTART;VALUE=DATE:20120325
SUMMARY:Northern Dutchess Bible Church
LOCATION:Northern Dutchess Bible Church\, Red Hook\, NY
END:VEVENT
END:VCALENDAR
