BEGIN:VCALENDAR
VERSION:2.0
PRODID:-//AudioTheme 2.3.8
BEGIN:VEVENT
UID:urn:uuid:c9c30166-1a0d-4555-8e5e-6c5751f1d3a5
URL:https://mitchmcvicker.com/concerts/gig-1503/
DTSTART;VALUE=DATE:20120324
SUMMARY:New Life Church
LOCATION:New Life Church\, Herkimer\, NY
END:VEVENT
END:VCALENDAR
