BEGIN:VCALENDAR
VERSION:2.0
PRODID:-//AudioTheme 2.3.8
BEGIN:VEVENT
UID:urn:uuid:c94a1676-6e47-450b-9d8e-b2fde358f6f6
URL:https://mitchmcvicker.com/concerts/gig-1501/
DTSTART;VALUE=DATE:20120323
SUMMARY:Saugerties Community Evangelical Church
LOCATION:Saugerties Community Evangelical Church\, Saugerties (Glasco)\, NY
END:VEVENT
END:VCALENDAR
