BEGIN:VCALENDAR
VERSION:2.0
PRODID:-//AudioTheme 2.3.8
BEGIN:VEVENT
UID:urn:uuid:5fc38639-d5f0-4717-9231-c7687f576a17
URL:https://mitchmcvicker.com/concerts/gig-1499/
DTSTART;VALUE=DATE:20120322
SUMMARY:Living Faith Bible Church
LOCATION:Living Faith Bible Church\, Sauquoit\, NY
END:VEVENT
END:VCALENDAR
