BEGIN:VCALENDAR
VERSION:2.0
PRODID:-//AudioTheme 2.3.8
BEGIN:VEVENT
UID:urn:uuid:f7cecad6-004c-4d2b-bb05-43ac70268410
URL:https://mitchmcvicker.com/concerts/gig-1498/
DTSTART;VALUE=DATE:20120321
SUMMARY:Faith Alive Church
LOCATION:Faith Alive Church\, Elyria\, OH
END:VEVENT
END:VCALENDAR
