BEGIN:VCALENDAR
VERSION:2.0
PRODID:-//AudioTheme 2.3.8
BEGIN:VEVENT
UID:urn:uuid:70d4a386-d1cc-43ef-bc55-2f1022baa513
URL:https://mitchmcvicker.com/concerts/gig-1496/
DTSTART;VALUE=DATE:20120320
SUMMARY:Rockford Baptist Church
LOCATION:Rockford Baptist Church\, Rockford\, TN
END:VEVENT
END:VCALENDAR
