BEGIN:VCALENDAR
VERSION:2.0
PRODID:-//AudioTheme 2.3.8
BEGIN:VEVENT
UID:urn:uuid:6d812cea-c322-4892-84df-cb9739407ec9
URL:https://mitchmcvicker.com/concerts/gig-1494/
DTSTART;VALUE=DATE:20120311
SUMMARY:Imagine Cafe
LOCATION:Imagine Cafe\, Memphis\, TN
END:VEVENT
END:VCALENDAR
