BEGIN:VCALENDAR
VERSION:2.0
PRODID:-//AudioTheme 2.3.8
BEGIN:VEVENT
UID:urn:uuid:4ad70878-f142-444e-9fe0-3e19f96fde96
URL:https://mitchmcvicker.com/concerts/gig-1490/
DTSTART;VALUE=DATE:20120308
SUMMARY:Gateway Community Church
LOCATION:Gateway Community Church\, Wylie\, TX
END:VEVENT
END:VCALENDAR
