BEGIN:VCALENDAR
VERSION:2.0
PRODID:-//AudioTheme 2.3.8
BEGIN:VEVENT
UID:urn:uuid:61ba56e0-e958-4fe0-aac3-79b553f82c57
URL:https://mitchmcvicker.com/concerts/gig-1488/
DTSTART;VALUE=DATE:20120226
SUMMARY:The Historic Fox Theatre
LOCATION:The Historic Fox Theatre\, Newton\, KS
END:VEVENT
END:VCALENDAR
