BEGIN:VCALENDAR
VERSION:2.0
PRODID:-//AudioTheme 2.3.8
BEGIN:VEVENT
UID:urn:uuid:a621ec86-b5cc-457b-8057-e5aed6fedafd
URL:https://mitchmcvicker.com/concerts/gig-1487/
DTSTART;VALUE=DATE:20120225
SUMMARY:Topeka  Free Methodist Church
LOCATION:Topeka  Free Methodist Church\, 3450 SE Indiana Ave\, Topeka\, KS
END:VEVENT
END:VCALENDAR
