BEGIN:VCALENDAR
VERSION:2.0
PRODID:-//AudioTheme 2.3.8
BEGIN:VEVENT
UID:urn:uuid:89c745ad-f827-433a-a9aa-4a102e57a8f2
URL:https://mitchmcvicker.com/concerts/gig-1486/
DTSTART;VALUE=DATE:20120224
SUMMARY:Bethel Church
LOCATION:Bethel Church\, North Platte\, NE
END:VEVENT
END:VCALENDAR
