BEGIN:VCALENDAR
VERSION:2.0
PRODID:-//AudioTheme 2.3.8
BEGIN:VEVENT
UID:urn:uuid:ffa454c8-0a31-4f6e-bae4-b1d717cfa8ff
URL:https://mitchmcvicker.com/concerts/gig-1484/
DTSTART;VALUE=DATE:20120222
SUMMARY:Nettleton Baptist Church
LOCATION:Nettleton Baptist Church\, Jonesboro\, AR
END:VEVENT
END:VCALENDAR
