BEGIN:VCALENDAR
VERSION:2.0
PRODID:-//AudioTheme 2.3.8
BEGIN:VEVENT
UID:urn:uuid:e844891a-55a8-4d66-915e-ab03fb8d5208
URL:https://mitchmcvicker.com/concerts/gig-1483/
DTSTART;VALUE=DATE:20120212
SUMMARY:Holton Christian Church - Church in the Park
LOCATION:Holton Christian Church - Church in the Park\, Holton Community Park 6805 W. Versailles St.\, Holton\, IN
END:VEVENT
END:VCALENDAR
