BEGIN:VCALENDAR
VERSION:2.0
PRODID:-//AudioTheme 2.3.8
BEGIN:VEVENT
UID:urn:uuid:08e937cc-3ad2-4b54-986b-460ef6fd0349
URL:https://mitchmcvicker.com/concerts/gig-1482/
DTSTART;VALUE=DATE:20120211
SUMMARY:Smyrna Baptist Church
LOCATION:Smyrna Baptist Church\, 2475 West CR 700 South\, Spiceland\, IN
END:VEVENT
END:VCALENDAR
