BEGIN:VCALENDAR
VERSION:2.0
PRODID:-//AudioTheme 2.3.8
BEGIN:VEVENT
UID:urn:uuid:b3097efa-4412-4a37-9fbc-7dfad33d5dfd
URL:https://mitchmcvicker.com/concerts/gig-1481/
DTSTART;VALUE=DATE:20120210
SUMMARY:Deer Run Church of Christ
LOCATION:Deer Run Church of Christ\, 2730 S. Ironwood Dr.\, South Bend\, IN\, USA\, 46614
END:VEVENT
END:VCALENDAR
