BEGIN:VCALENDAR
VERSION:2.0
PRODID:-//AudioTheme 2.3.8
BEGIN:VEVENT
UID:urn:uuid:0678885f-131c-44c4-8f3d-6ffee3c44493
URL:https://mitchmcvicker.com/concerts/gig-1479/
DTSTART;VALUE=DATE:20120209
SUMMARY:Vincennes University Campus Christian Fellowship
LOCATION:Vincennes University Campus Christian Fellowship\, Vincennes\, IN
END:VEVENT
END:VCALENDAR
